BEGIN:VCALENDAR
VERSION:2.0
PRODID:-//www.noicaselle.it - ECPv6.15.16//NONSGML v1.0//EN
CALSCALE:GREGORIAN
METHOD:PUBLISH
X-WR-CALNAME:www.noicaselle.it
X-ORIGINAL-URL:https://www.noicaselle.it
X-WR-CALDESC:Eventi per www.noicaselle.it
REFRESH-INTERVAL;VALUE=DURATION:PT1H
X-Robots-Tag:noindex
X-PUBLISHED-TTL:PT1H
BEGIN:VTIMEZONE
TZID:Europe/Rome
BEGIN:DAYLIGHT
TZOFFSETFROM:+0100
TZOFFSETTO:+0200
TZNAME:CEST
DTSTART:20220327T010000
END:DAYLIGHT
BEGIN:STANDARD
TZOFFSETFROM:+0200
TZOFFSETTO:+0100
TZNAME:CET
DTSTART:20221030T010000
END:STANDARD
BEGIN:DAYLIGHT
TZOFFSETFROM:+0100
TZOFFSETTO:+0200
TZNAME:CEST
DTSTART:20230326T010000
END:DAYLIGHT
BEGIN:STANDARD
TZOFFSETFROM:+0200
TZOFFSETTO:+0100
TZNAME:CET
DTSTART:20231029T010000
END:STANDARD
BEGIN:DAYLIGHT
TZOFFSETFROM:+0100
TZOFFSETTO:+0200
TZNAME:CEST
DTSTART:20240331T010000
END:DAYLIGHT
BEGIN:STANDARD
TZOFFSETFROM:+0200
TZOFFSETTO:+0100
TZNAME:CET
DTSTART:20241027T010000
END:STANDARD
BEGIN:DAYLIGHT
TZOFFSETFROM:+0100
TZOFFSETTO:+0200
TZNAME:CEST
DTSTART:20250330T010000
END:DAYLIGHT
BEGIN:STANDARD
TZOFFSETFROM:+0200
TZOFFSETTO:+0100
TZNAME:CET
DTSTART:20251026T010000
END:STANDARD
END:VTIMEZONE
BEGIN:VEVENT
DTSTART;TZID=Europe/Rome:20240428T080000
DTEND;TZID=Europe/Rome:20240428T120000
DTSTAMP:20260421T140421
CREATED:20240112T165035Z
LAST-MODIFIED:20240409T130917Z
UID:1714-1714291200-1714305600@www.noicaselle.it
SUMMARY:Turno Bar Oratorio
DESCRIPTION:Simone S\, Giulia S\, Alice Z\, Gino F\, Monica C\, Francesco P\, Serena G
URL:https://www.noicaselle.it/event/turno-bar-oratorio-8/
END:VEVENT
BEGIN:VEVENT
DTSTART;TZID=Europe/Rome:20240421T150000
DTEND;TZID=Europe/Rome:20240421T190000
DTSTAMP:20260421T140421
CREATED:20240409T132629Z
LAST-MODIFIED:20240409T134242Z
UID:1854-1713711600-1713726000@www.noicaselle.it
SUMMARY:Turno Bar pomeriggio
DESCRIPTION:Giovanna\, Loris\, Adriana
URL:https://www.noicaselle.it/event/turno-bar-pomeriggio-7/
END:VEVENT
BEGIN:VEVENT
DTSTART;TZID=Europe/Rome:20240421T080000
DTEND;TZID=Europe/Rome:20240421T120000
DTSTAMP:20260421T140421
CREATED:20240112T143134Z
LAST-MODIFIED:20240409T131915Z
UID:1694-1713686400-1713700800@www.noicaselle.it
SUMMARY:Turno Bar Mattina
DESCRIPTION:Enrico C\, Pierluici T\, Cristina C\, Drusiana C\, Fiona C
URL:https://www.noicaselle.it/event/turno-bar-mattina-7/
END:VEVENT
BEGIN:VEVENT
DTSTART;TZID=Europe/Rome:20240414T150000
DTEND;TZID=Europe/Rome:20240414T190000
DTSTAMP:20260421T140421
CREATED:20240409T132427Z
LAST-MODIFIED:20240409T132427Z
UID:1852-1713106800-1713121200@www.noicaselle.it
SUMMARY:Turno bar pomeriggio
DESCRIPTION:Stefania V\, Guido T\, Alessandra\, Gianfranco
URL:https://www.noicaselle.it/event/turno-bar-pomeriggio-6/
END:VEVENT
BEGIN:VEVENT
DTSTART;TZID=Europe/Rome:20240414T110000
DTEND;TZID=Europe/Rome:20240414T123000
DTSTAMP:20260421T140421
CREATED:20240112T143322Z
LAST-MODIFIED:20240112T164109Z
UID:1696-1713092400-1713097800@www.noicaselle.it
SUMMARY:Prima Comunione a Caselle
DESCRIPTION:Bambini e Bambine di quarta primaria di Caselle
URL:https://www.noicaselle.it/event/prima-comunione-a-caselle/
END:VEVENT
BEGIN:VEVENT
DTSTART;TZID=Europe/Rome:20240414T080000
DTEND;TZID=Europe/Rome:20240414T120000
DTSTAMP:20260421T140421
CREATED:20240112T143005Z
LAST-MODIFIED:20240409T130641Z
UID:1692-1713081600-1713096000@www.noicaselle.it
SUMMARY:Turno Bar Mattina
DESCRIPTION:Luca V\, Nicoletta T\, Harsen F\, Debora D\, Stefano C\, Cristina C\, Maria Claudia C.
URL:https://www.noicaselle.it/event/turno-bar-mattina-6/
END:VEVENT
BEGIN:VEVENT
DTSTART;TZID=Europe/Rome:20240409T150000
DTEND;TZID=Europe/Rome:20240409T190000
DTSTAMP:20260421T140421
CREATED:20240409T134034Z
LAST-MODIFIED:20240409T134034Z
UID:1878-1712674800-1712689200@www.noicaselle.it
SUMMARY:Turno Bar pomeriggio
DESCRIPTION:Nicoletta\, Luca V\, Tiziana\, Giovanni
URL:https://www.noicaselle.it/event/turno-bar-pomeriggio-16/
END:VEVENT
BEGIN:VEVENT
DTSTART;TZID=Europe/Rome:20240407T080000
DTEND;TZID=Europe/Rome:20240407T120000
DTSTAMP:20260421T140421
CREATED:20240112T141702Z
LAST-MODIFIED:20240112T141703Z
UID:1683-1712476800-1712491200@www.noicaselle.it
SUMMARY:Turno Bar Oratorio
DESCRIPTION:Giosuè P\, Partick B\, Luca G\, Francesca P\, Elisa M\, Viviana C.
URL:https://www.noicaselle.it/event/turno-bar-oratorio-2/
END:VEVENT
BEGIN:VEVENT
DTSTART;TZID=Europe/Rome:20240331T000000
DTEND;TZID=Europe/Rome:20240331T235959
DTSTAMP:20260421T140421
CREATED:20240112T141807Z
LAST-MODIFIED:20240112T141841Z
UID:1685-1711843200-1711929599@www.noicaselle.it
SUMMARY:S. Pasqua
DESCRIPTION:
URL:https://www.noicaselle.it/event/s-pasqua/
END:VEVENT
BEGIN:VEVENT
DTSTART;TZID=Europe/Rome:20240324T150000
DTEND;TZID=Europe/Rome:20240324T170000
DTSTAMP:20260421T140421
CREATED:20240112T142815Z
LAST-MODIFIED:20240112T142816Z
UID:1689-1711292400-1711299600@www.noicaselle.it
SUMMARY:Prima Confessione a Caselle
DESCRIPTION:Bambini e bambine di terza primaria – Caselle e Altivole
URL:https://www.noicaselle.it/event/prima-confessione-a-caselle/
END:VEVENT
BEGIN:VEVENT
DTSTART;TZID=Europe/Rome:20240324T080000
DTEND;TZID=Europe/Rome:20240324T120000
DTSTAMP:20260421T140421
CREATED:20240112T141605Z
LAST-MODIFIED:20240112T141606Z
UID:1681-1711267200-1711281600@www.noicaselle.it
SUMMARY:Turno Bar Oratorio
DESCRIPTION:Monica L\, Giovanna G\, Romina Z\, Ambra F\, Giada F.
URL:https://www.noicaselle.it/event/turno-bar-oratorio/
END:VEVENT
BEGIN:VEVENT
DTSTART;TZID=Europe/Rome:20240317T093000
DTEND;TZID=Europe/Rome:20240317T110000
DTSTAMP:20260421T140421
CREATED:20240112T142520Z
LAST-MODIFIED:20240115T141617Z
UID:1687-1710667800-1710673200@www.noicaselle.it
SUMMARY:S. Cresima a Caselle
DESCRIPTION:ragazzi e ragazze di seconda media di Caselle
URL:https://www.noicaselle.it/event/s-cresima-a-caselle/
END:VEVENT
BEGIN:VEVENT
DTSTART;TZID=Europe/Rome:20240317T080000
DTEND;TZID=Europe/Rome:20240317T120000
DTSTAMP:20260421T140421
CREATED:20240112T140852Z
LAST-MODIFIED:20240112T141517Z
UID:1677-1710662400-1710676800@www.noicaselle.it
SUMMARY:Turno Bar Mattina
DESCRIPTION:Stefania V\, Guido T\, Giovanna V\, Loris F\, Merzia R\, Emanuela M.
URL:https://www.noicaselle.it/event/turno-bar-mattina-5/
END:VEVENT
BEGIN:VEVENT
DTSTART;TZID=Europe/Rome:20240310T080000
DTEND;TZID=Europe/Rome:20240310T120000
DTSTAMP:20260421T140421
CREATED:20240112T140722Z
LAST-MODIFIED:20240112T140744Z
UID:1675-1710057600-1710072000@www.noicaselle.it
SUMMARY:Turno Bar Mattina
DESCRIPTION:Luca V\, Nicoletta T\, Harsen F\, Debora D\, Stefano C\, Cristina C\, Maria Claudia C.
URL:https://www.noicaselle.it/event/turno-bar-mattina-4/
END:VEVENT
BEGIN:VEVENT
DTSTART;TZID=Europe/Rome:20240303T080000
DTEND;TZID=Europe/Rome:20240303T120000
DTSTAMP:20260421T140421
CREATED:20240112T134012Z
LAST-MODIFIED:20240112T134014Z
UID:1673-1709452800-1709467200@www.noicaselle.it
SUMMARY:Turno Bar Mattina
DESCRIPTION:Paolo F\, Chiara F\, Gino F\, Monica C.
URL:https://www.noicaselle.it/event/turno-bar-mattina-3/
END:VEVENT
BEGIN:VEVENT
DTSTART;TZID=Europe/Rome:20240225T080000
DTEND;TZID=Europe/Rome:20240225T120000
DTSTAMP:20260421T140421
CREATED:20240112T133916Z
LAST-MODIFIED:20240112T134041Z
UID:1671-1708848000-1708862400@www.noicaselle.it
SUMMARY:Turno Bar Mattina
DESCRIPTION:Simone S\, Giulia S\, Alice Z\, Edi Z.
URL:https://www.noicaselle.it/event/turno-bar-mattina-2/
END:VEVENT
BEGIN:VEVENT
DTSTART;TZID=Europe/Rome:20240218T140000
DTEND;TZID=Europe/Rome:20240218T180000
DTSTAMP:20260421T140421
CREATED:20240115T141335Z
LAST-MODIFIED:20240115T141336Z
UID:1732-1708264800-1708279200@www.noicaselle.it
SUMMARY:Turno Bar Pomeriggio
DESCRIPTION:Stefania V.\, Guido T.\, Giovanna V.\, Loris F.\, Merzia R.
URL:https://www.noicaselle.it/event/turno-bar-pomeriggio-3/
END:VEVENT
BEGIN:VEVENT
DTSTART;TZID=Europe/Rome:20240218T080000
DTEND;TZID=Europe/Rome:20240218T120000
DTSTAMP:20260421T140421
CREATED:20240112T133455Z
LAST-MODIFIED:20240112T133457Z
UID:1664-1708243200-1708257600@www.noicaselle.it
SUMMARY:Turno Bar Mattina
DESCRIPTION:Luca Zamperin\, Francesco Pozzebon\, Valentina Visentin\, Serena Gatto\, Susy Pastro
URL:https://www.noicaselle.it/event/turno-bar-mattina/
END:VEVENT
BEGIN:VEVENT
DTSTART;TZID=Europe/Rome:20240211T080000
DTEND;TZID=Europe/Rome:20240211T123000
DTSTAMP:20260421T140421
CREATED:20240102T141944Z
LAST-MODIFIED:20240112T133635Z
UID:1658-1707638400-1707654600@www.noicaselle.it
SUMMARY:Turno Bar Mattina
DESCRIPTION:Daniele Ferraro\, Roy Visentin\, Tamara Bonetto\, Cinzia Marcon\, Simonetta Visentin
URL:https://www.noicaselle.it/event/bar-oratorio-mattina-2/
END:VEVENT
BEGIN:VEVENT
DTSTART;TZID=Europe/Rome:20240204T080000
DTEND;TZID=Europe/Rome:20240204T123000
DTSTAMP:20260421T140421
CREATED:20231211T104810Z
LAST-MODIFIED:20240112T133655Z
UID:1650-1707033600-1707049800@www.noicaselle.it
SUMMARY:Turno Bar Mattina
DESCRIPTION:Giosuè Pandin\, \n\n\n\nPatrick Battaglia\, \n\n\n\nViviana Carretta\, \n\n\n\nElisa Martini\, \n\n\n\nLuca Gatto \n\n\n\nFrancesca Pignatelli
URL:https://www.noicaselle.it/event/bar-oratorio-mattina/
END:VEVENT
BEGIN:VEVENT
DTSTART;TZID=Europe/Rome:20240128T140000
DTEND;TZID=Europe/Rome:20240128T180000
DTSTAMP:20260421T140421
CREATED:20240115T141214Z
LAST-MODIFIED:20240115T141215Z
UID:1730-1706450400-1706464800@www.noicaselle.it
SUMMARY:Turno Bar Pomeriggio
DESCRIPTION:Francesco & Serena
URL:https://www.noicaselle.it/event/turno-bar-pomeriggio-2/
END:VEVENT
BEGIN:VEVENT
DTSTART;TZID=Europe/Rome:20240128T083000
DTEND;TZID=Europe/Rome:20240128T173000
DTSTAMP:20260421T140421
CREATED:20231119T081015Z
LAST-MODIFIED:20231119T081017Z
UID:1637-1706430600-1706463000@www.noicaselle.it
SUMMARY:Turno Bar
DESCRIPTION:Enrico Crotone\, Crespan Cristina\, Trolese Pierluigi\, Comentale Fiona\, Cavarzan Drusiana
URL:https://www.noicaselle.it/event/turno-bar-13/
END:VEVENT
BEGIN:VEVENT
DTSTART;TZID=Europe/Rome:20240121T140000
DTEND;TZID=Europe/Rome:20240121T180000
DTSTAMP:20260421T140421
CREATED:20240115T141100Z
LAST-MODIFIED:20240115T141102Z
UID:1728-1705845600-1705860000@www.noicaselle.it
SUMMARY:Turno Bar Pomeriggio
DESCRIPTION:Giovanna V. Loris F.
URL:https://www.noicaselle.it/event/turno-bar-pomeriggio/
END:VEVENT
BEGIN:VEVENT
DTSTART;TZID=Europe/Rome:20240121T083000
DTEND;TZID=Europe/Rome:20240121T123000
DTSTAMP:20260421T140421
CREATED:20231109T203903Z
LAST-MODIFIED:20231109T203936Z
UID:1610-1705825800-1705840200@www.noicaselle.it
SUMMARY:Turno bar
DESCRIPTION:Tronchin Guido\, Visentin Stefania\, Visentin Giovanna\, Filippetto Loris\, Ruffato Merzia\, Marin Emanuela
URL:https://www.noicaselle.it/event/turno-bar-8/
END:VEVENT
BEGIN:VEVENT
DTSTART;TZID=Europe/Rome:20240114T140000
DTEND;TZID=Europe/Rome:20240114T180000
DTSTAMP:20260421T140421
CREATED:20240112T133540Z
LAST-MODIFIED:20240112T133541Z
UID:1666-1705240800-1705255200@www.noicaselle.it
SUMMARY:Bar Oratorio Pomeriggio
DESCRIPTION:Luca Z\, Valentina V.
URL:https://www.noicaselle.it/event/bar-oratorio-pomeriggio/
END:VEVENT
BEGIN:VEVENT
DTSTART;TZID=Europe/Rome:20240114T083000
DTEND;TZID=Europe/Rome:20240114T123000
DTSTAMP:20260421T140421
CREATED:20231117T133806Z
LAST-MODIFIED:20231117T133808Z
UID:1630-1705221000-1705235400@www.noicaselle.it
SUMMARY:Turno Bar
DESCRIPTION:Monica Lorent\, Ambra Feltrin\, Giada Feltrin\, Giovanna Garbujo\, Marica Quaggiotto\, Romina Zanella
URL:https://www.noicaselle.it/event/turno-bar-12/
END:VEVENT
BEGIN:VEVENT
DTSTART;TZID=Europe/Rome:20231231T083000
DTEND;TZID=Europe/Rome:20231231T123000
DTSTAMP:20260421T140421
CREATED:20231223T191416Z
LAST-MODIFIED:20231223T191417Z
UID:1653-1704011400-1704025800@www.noicaselle.it
SUMMARY:Turno bar
DESCRIPTION:Pierluigi Trolese
URL:https://www.noicaselle.it/event/turno-bar-15/
END:VEVENT
BEGIN:VEVENT
DTSTART;TZID=Europe/Rome:20231224T083000
DTEND;TZID=Europe/Rome:20231224T123000
DTSTAMP:20260421T140421
CREATED:20231113T115759Z
LAST-MODIFIED:20231113T115801Z
UID:1617-1703406600-1703421000@www.noicaselle.it
SUMMARY:Turno Bar
DESCRIPTION:Luca Visentin e famiglia\, Harsen Ferraro e famiglia
URL:https://www.noicaselle.it/event/turno-bar-11/
END:VEVENT
BEGIN:VEVENT
DTSTART;TZID=Europe/Rome:20231217T140000
DTEND;TZID=Europe/Rome:20231217T180000
DTSTAMP:20260421T140421
CREATED:20231130T084445Z
LAST-MODIFIED:20231130T084515Z
UID:1643-1702821600-1702836000@www.noicaselle.it
SUMMARY:Pomeriggio in oratorio
DESCRIPTION:Merzia Ruffato\, Stefania Visentin\, Giovanna Visentin\, Emanuela Marin
URL:https://www.noicaselle.it/event/pomeriggio-in-oratorio-2/
END:VEVENT
BEGIN:VEVENT
DTSTART;TZID=Europe/Rome:20231217T103000
DTEND;TZID=Europe/Rome:20231217T114500
DTSTAMP:20260421T140421
CREATED:20231114T170155Z
LAST-MODIFIED:20231114T170156Z
UID:1628-1702809000-1702813500@www.noicaselle.it
SUMMARY:Incontro ACR
DESCRIPTION:
URL:https://www.noicaselle.it/event/incontro-acr-7/
END:VEVENT
END:VCALENDAR